BEGIN:VCALENDAR
VERSION:2.0
PRODID:-//Ad Valorem - ECPv6.7.0//NONSGML v1.0//EN
CALSCALE:GREGORIAN
METHOD:PUBLISH
X-ORIGINAL-URL:https://www.advaloremgroup.uk
X-WR-CALDESC:Events for Ad Valorem
REFRESH-INTERVAL;VALUE=DURATION:PT1H
X-Robots-Tag:noindex
X-PUBLISHED-TTL:PT1H
BEGIN:VTIMEZONE
TZID:Europe/London
BEGIN:DAYLIGHT
TZOFFSETFROM:+0000
TZOFFSETTO:+0100
TZNAME:BST
DTSTART:20230326T010000
END:DAYLIGHT
BEGIN:STANDARD
TZOFFSETFROM:+0100
TZOFFSETTO:+0000
TZNAME:GMT
DTSTART:20231029T010000
END:STANDARD
END:VTIMEZONE
BEGIN:VEVENT
DTSTART;TZID=Europe/London:20230222T123000
DTEND;TZID=Europe/London:20230222T133000
DTSTAMP:20260420T141017
CREATED:20230213T141500Z
LAST-MODIFIED:20230222T132413Z
UID:5661-1677069000-1677072600@www.advaloremgroup.uk
SUMMARY:Preparing for the tax year-end & planning for 2023/24
DESCRIPTION:The tax year-end is fast approaching and there are  a number of changes taking place from April 2023 – register for tips on how to prepare!\n\n\nThere are a number of upcoming changes from April 2023 across both Income and Corporate tax.  Therefore\, there is a variety of things you should be thinking about implementing\, both in business and personally\, before the end of the 2022/23 tax year.   \nIn our webinar “Preparing for the tax year-end & planning for 2023/24”\, Makayla will cover key topics such as: \n\nUpcoming changes to capital allowances\nPersonal tax reliefs to look at for 2022/23\nPreparing for R&D changes
URL:https://www.advaloremgroup.uk/event/preparing-for-the-tax-year-end-planning-for-2023-24/
ATTACH;FMTTYPE=image/jpeg:https://www.advaloremgroup.uk/wp-content/uploads/2023/02/0ad42c8d16c826fd833221780cbad708-j3f0jC.tmp_.jpg
END:VEVENT
END:VCALENDAR