BEGIN:VCALENDAR
VERSION:2.0
PRODID:-//Ad Valorem - ECPv6.7.0//NONSGML v1.0//EN
CALSCALE:GREGORIAN
METHOD:PUBLISH
X-WR-CALNAME:Ad Valorem
X-ORIGINAL-URL:https://www.advaloremgroup.uk
X-WR-CALDESC:Events for Ad Valorem
REFRESH-INTERVAL;VALUE=DURATION:PT1H
X-Robots-Tag:noindex
X-PUBLISHED-TTL:PT1H
BEGIN:VTIMEZONE
TZID:Europe/London
BEGIN:DAYLIGHT
TZOFFSETFROM:+0000
TZOFFSETTO:+0100
TZNAME:BST
DTSTART:20230326T010000
END:DAYLIGHT
BEGIN:STANDARD
TZOFFSETFROM:+0100
TZOFFSETTO:+0000
TZNAME:GMT
DTSTART:20231029T010000
END:STANDARD
END:VTIMEZONE
BEGIN:VEVENT
DTSTART;TZID=Europe/London:20230316T123000
DTEND;TZID=Europe/London:20230316T133000
DTSTAMP:20260422T094057
CREATED:20230224T132500Z
LAST-MODIFIED:20230316T132821Z
UID:5846-1678969800-1678973400@www.advaloremgroup.uk
SUMMARY:EIS & SEIS explained
DESCRIPTION:Join Makayla Combes ACCA CTA as she explains EIS & SEIS\n\n\nThe Enterprise Investment Scheme (EIS) and Seed Enterprise Investment Scheme (SEIS) are great ways for start-ups to attract investment\, due to the tax reliefs available to investors. In this webinar\, we will: \n·        Outline the criteria required for the company to be eligible for EIS or SEIS  \n·        Explain the conditions required for the investor to qualify for the investment  \n·        How to apply for EIS / SEIS with HMRC  \n·        Tips on attracting investment
URL:https://www.advaloremgroup.uk/event/eis-seis-explained/
ATTACH;FMTTYPE=image/jpeg:https://www.advaloremgroup.uk/wp-content/uploads/2023/02/bf0a5ac57308d5ad40990e0f54df53c2-fTqkAG.tmp_.jpg
END:VEVENT
END:VCALENDAR