BEGIN:VCALENDAR
VERSION:2.0
PRODID:-//Ad Valorem - ECPv6.7.0//NONSGML v1.0//EN
CALSCALE:GREGORIAN
METHOD:PUBLISH
X-ORIGINAL-URL:https://www.advaloremgroup.uk
X-WR-CALDESC:Events for Ad Valorem
REFRESH-INTERVAL;VALUE=DURATION:PT1H
X-Robots-Tag:noindex
X-PUBLISHED-TTL:PT1H
BEGIN:VTIMEZONE
TZID:Europe/London
BEGIN:DAYLIGHT
TZOFFSETFROM:+0000
TZOFFSETTO:+0100
TZNAME:BST
DTSTART:20230326T010000
END:DAYLIGHT
BEGIN:STANDARD
TZOFFSETFROM:+0100
TZOFFSETTO:+0000
TZNAME:GMT
DTSTART:20231029T010000
END:STANDARD
END:VTIMEZONE
BEGIN:VEVENT
DTSTART;TZID=Europe/London:20231012T130000
DTEND;TZID=Europe/London:20231012T140000
DTSTAMP:20260420T225247
CREATED:20230908T101652Z
LAST-MODIFIED:20230908T120006Z
UID:9898-1697115600-1697119200@www.advaloremgroup.uk
SUMMARY:Employee Ownership Options for SMEs
DESCRIPTION:Join our webinar to discover the three most popular ways to combine succession planning and incentivising employees\, with employee ownership\n\n\nEmployee Ownership Options are becoming more and more popular for SMEs for two main reasons. Firstly\, as a potential tax efficient exit strategy for the owners of the business and secondly as a way to incentivise key employees within the business. \nKey Focus Areas: \nA mixture of covid-19\, Brexit and the cost-of-living crisis is compelling businesses owners to consider their exit options. While the constant competitive nature of the recruitment market and talent shortage is also forcing business owners to think of new ways to incentivise their staff\, over the expected perks\, in order to keep and motivate key members of the team. \nIn this webinar\, Makayla Combes\, Head of Tax & Business Advisory at Ad Valorem Group\, will provide an overview of three of the most popular ways to combine succession planning and incentivising employees: \n• Share Schemes \n• Growth Shares \n• Employee Ownership Trusts \nThe overview of each option will answer: \n• What the scheme means for the business and the owner \n• What are the tax implications are \n• How to narrow down the best option for you \nReserve your spot now\, and learn how you can combine your exit strategy with incentivising your key employees.
URL:https://www.advaloremgroup.uk/event/employee-ownership-options-for-smes/
ATTACH;FMTTYPE=image/png:https://www.advaloremgroup.uk/wp-content/uploads/2023/09/fd93701884593b649c6be7cc0d66efb6-6C7LAO.tmp_.png
END:VEVENT
BEGIN:VEVENT
DTSTART;TZID=Europe/London:20231129T130000
DTEND;TZID=Europe/London:20231129T140000
DTSTAMP:20260420T225247
CREATED:20231030T155153Z
LAST-MODIFIED:20231030T155347Z
UID:10017-1701262800-1701266400@www.advaloremgroup.uk
SUMMARY:Autumn Statement 2023 - Key Updates
DESCRIPTION:Join us for a summary of the Autumn Statement 2023\, outlining key areas for small business owners.\n\n\nChancellor Jeremy Hunt will be outlining the Autumn Statement on 22nd November 2023\, providing updates on tax and spending.  \nJoin us on 29th November\, as we walk through the key areas affecting small business owners.
URL:https://www.advaloremgroup.uk/event/autumn-statement-2023-key-updates/
ATTACH;FMTTYPE=image/png:https://www.advaloremgroup.uk/wp-content/uploads/2023/10/21344a9d167300e4ff36257a693793b8-O2J0GV.tmp_.png
END:VEVENT
END:VCALENDAR